BEGIN:VCALENDAR
VERSION:2.0
PRODID:-//Ondres - ECPv5.9.1//NONSGML v1.0//EN
CALSCALE:GREGORIAN
METHOD:PUBLISH
X-WR-CALNAME:Ondres
X-ORIGINAL-URL:https://www.ondres.fr
X-WR-CALDESC:évènements pour Ondres
BEGIN:VTIMEZONE
TZID:Europe/Paris
BEGIN:DAYLIGHT
TZOFFSETFROM:+0100
TZOFFSETTO:+0200
TZNAME:CEST
DTSTART:20250330T010000
END:DAYLIGHT
BEGIN:STANDARD
TZOFFSETFROM:+0200
TZOFFSETTO:+0100
TZNAME:CET
DTSTART:20251026T010000
END:STANDARD
END:VTIMEZONE
BEGIN:VEVENT
DTSTART;TZID=Europe/Paris:20250423T163000
DTEND;TZID=Europe/Paris:20250423T173000
DTSTAMP:20260421T123030
CREATED:20250409T125334Z
LAST-MODIFIED:20250409T125505Z
UID:36887-1745425800-1745429400@www.ondres.fr
SUMMARY:[Atelier scientifique] La malle de mer
DESCRIPTION:Embarquez pour une aventure sous-marine où les petits explorateurs scientifiques seront invités à découvrir les merveilles des océans et à comprendre l’importance de les protéger. \nPar l’association « Les Petits débrouillards » \nDe 4 à 6 ans \nSur inscription au 05.59.45.23.59 ou par mail bibliotheque@ondres.fr
URL:https://www.ondres.fr/evenements/atelier-scientifique-la-malle-de-mer/
LOCATION:Ludo-bibliothèque – 211\, chemin de Tambourin\, France
CATEGORIES:Animation Jeune Public,Atelier
ATTACH;FMTTYPE=image/jpeg:https://www.ondres.fr/wp-content/uploads/2025/04/23-avril.jpg
END:VEVENT
END:VCALENDAR