BEGIN:VCALENDAR
VERSION:2.0
PRODID:-//Ondres - ECPv5.9.1//NONSGML v1.0//EN
CALSCALE:GREGORIAN
METHOD:PUBLISH
X-WR-CALNAME:Ondres
X-ORIGINAL-URL:https://www.ondres.fr
X-WR-CALDESC:évènements pour Ondres
BEGIN:VTIMEZONE
TZID:Europe/Paris
BEGIN:DAYLIGHT
TZOFFSETFROM:+0100
TZOFFSETTO:+0200
TZNAME:CEST
DTSTART:20250330T010000
END:DAYLIGHT
BEGIN:STANDARD
TZOFFSETFROM:+0200
TZOFFSETTO:+0100
TZNAME:CET
DTSTART:20251026T010000
END:STANDARD
END:VTIMEZONE
BEGIN:VEVENT
DTSTART;TZID=Europe/Paris:20250423T143000
DTEND;TZID=Europe/Paris:20250423T160000
DTSTAMP:20260421T105329
CREATED:20250411T081053Z
LAST-MODIFIED:20250411T081651Z
UID:36942-1745418600-1745424000@www.ondres.fr
SUMMARY:[Atelier scientifique] Magique\, pas magique!
DESCRIPTION:Préparez-vous à remettre en question vos certitudes sur des phénomènes\nqui semblent relever de la magie. Grâce à des expériences\, venez découvrir\nque la science est parfois plus étonnante que la magie ! \nPar l’association « LES PETITS DÉBROUILLARDS » \nA partir de 7 ans \nSur inscription au 05.59.45.23.59 ou par mail bibliotheque@ondres.fr
URL:https://www.ondres.fr/evenements/atelier-scientifique-magique-pas-magique/
LOCATION:Ludo-bibliothèque – 211\, chemin de Tambourin\, France
CATEGORIES:Animation Jeune Public,Atelier,Ludo-bibliothèque
ATTACH;FMTTYPE=image/jpeg:https://www.ondres.fr/wp-content/uploads/2025/04/23-avril-b-scaled.jpg
END:VEVENT
END:VCALENDAR