BEGIN:VCALENDAR
VERSION:2.0
PRODID:-//Ondres - ECPv5.9.1//NONSGML v1.0//EN
CALSCALE:GREGORIAN
METHOD:PUBLISH
X-WR-CALNAME:Ondres
X-ORIGINAL-URL:https://www.ondres.fr
X-WR-CALDESC:évènements pour Ondres
BEGIN:VTIMEZONE
TZID:Europe/Paris
BEGIN:DAYLIGHT
TZOFFSETFROM:+0100
TZOFFSETTO:+0200
TZNAME:CEST
DTSTART:20230326T010000
END:DAYLIGHT
BEGIN:STANDARD
TZOFFSETFROM:+0200
TZOFFSETTO:+0100
TZNAME:CET
DTSTART:20231029T010000
END:STANDARD
END:VTIMEZONE
BEGIN:VEVENT
DTSTART;TZID=Europe/Paris:20230822T180000
DTEND;TZID=Europe/Paris:20230822T193000
DTSTAMP:20260421T120723
CREATED:20230810T162810Z
LAST-MODIFIED:20230811T075726Z
UID:32176-1692727200-1692732600@www.ondres.fr
SUMMARY:Les échassiers du Togo et les Bergers du Seignanx en démonstration !
DESCRIPTION:Venez assister à une démonstration d’échassiers du Togo qui rencontrent nos Bergers du Seignanx ! Au programme\, des choses toutes en hauteur : danses et acrobaties à plusieurs mètres de haut rythmées par de la musique traditionnelle\, en reliant les continents ! \nRendez-vous sur la promenade de la plage d’Ondres-Océan à 18h00. \n 
URL:https://www.ondres.fr/evenements/les-echassiers-du-togo-bergers-du-seignanx/
LOCATION:Ondres-Océan
ATTACH;FMTTYPE=image/jpeg:https://www.ondres.fr/wp-content/uploads/2023/08/afuma-01-copie.jpg
END:VEVENT
END:VCALENDAR