BEGIN:VCALENDAR
VERSION:2.0
PRODID:-//Ondres - ECPv5.9.1//NONSGML v1.0//EN
CALSCALE:GREGORIAN
METHOD:PUBLISH
X-WR-CALNAME:Ondres
X-ORIGINAL-URL:https://www.ondres.fr
X-WR-CALDESC:évènements pour Ondres
BEGIN:VTIMEZONE
TZID:Europe/Paris
BEGIN:DAYLIGHT
TZOFFSETFROM:+0100
TZOFFSETTO:+0200
TZNAME:CEST
DTSTART:20250330T010000
END:DAYLIGHT
BEGIN:STANDARD
TZOFFSETFROM:+0200
TZOFFSETTO:+0100
TZNAME:CET
DTSTART:20251026T010000
END:STANDARD
END:VTIMEZONE
BEGIN:VEVENT
DTSTART;TZID=Europe/Paris:20250430T100000
DTEND;TZID=Europe/Paris:20250430T110000
DTSTAMP:20260421T123423
CREATED:20250409T095314Z
LAST-MODIFIED:20250409T101828Z
UID:36870-1746007200-1746010800@www.ondres.fr
SUMMARY:[Moment ludique] P'tits joueurs
DESCRIPTION:Accompagnés par les bibliothécaires\, venez profiter d’un moment avec votre enfant et d’une sélection de jeux spécifiques pour les tout-petits. Découverte successive de 4 jeux. \nDe 3 à 5 ans \nSur inscription au 05.59.45.23.59 ou par mail bibliotheque@ondres.fr
URL:https://www.ondres.fr/evenements/moment-ludique-ptits-joueurs/
LOCATION:Ludo-bibliothèque – 211\, chemin de Tambourin\, France
CATEGORIES:Animation Jeune Public,Animation Petite enfance,Ludo-bibliothèque
ATTACH;FMTTYPE=image/png:https://www.ondres.fr/wp-content/uploads/2025/04/ptits-joueurs.png
END:VEVENT
END:VCALENDAR