BEGIN:VCALENDAR
VERSION:2.0
PRODID:-//Ondres - ECPv5.9.1//NONSGML v1.0//EN
CALSCALE:GREGORIAN
METHOD:PUBLISH
X-WR-CALNAME:Ondres
X-ORIGINAL-URL:https://www.ondres.fr
X-WR-CALDESC:évènements pour Ondres
BEGIN:VTIMEZONE
TZID:Europe/Paris
BEGIN:DAYLIGHT
TZOFFSETFROM:+0100
TZOFFSETTO:+0200
TZNAME:CEST
DTSTART:20260329T010000
END:DAYLIGHT
BEGIN:STANDARD
TZOFFSETFROM:+0200
TZOFFSETTO:+0100
TZNAME:CET
DTSTART:20261025T010000
END:STANDARD
END:VTIMEZONE
BEGIN:VEVENT
DTSTART;VALUE=DATE:20260425
DTEND;VALUE=DATE:20260426
DTSTAMP:20260422T162452
CREATED:20260421T121057Z
LAST-MODIFIED:20260421T121057Z
UID:40333-1777075200-1777161599@www.ondres.fr
SUMMARY:#Portesouvertes | Écolieu Lacoste
DESCRIPTION:L’écolieu Lacoste\, partenaire de la Ville dans le cadre de la convention « légumes solidaires »\, organise une journée portes ouvertes le samedi 25 avril. \nAu programme : vente de plants\, visites de la ferme et animations pour les enfants. L’évènement sera également rythmé par la présence de l’association Graines du Futur\, qui proposera des animations tout au long de la journée. \nUn repas végétarien\, préparé par La Mutinerie\, sera proposé à 12h30 (sur réservation). \nCette journée est l’occasion de découvrir un lieu engagé\, de rencontrer ses acteurs et d’échanger autour de pratiques respectueuses de l’environnement. \n👉 Informations détaillées et modalités de réservation sur l’affiche de l’évènement. \n#ondres #villeondres #environnement #ecolieu #circuitscourts #solidarite #developpementdurable
URL:https://www.ondres.fr/evenements/portesouvertes-ecolieu-lacoste/
CATEGORIES:Environnement
ATTACH;FMTTYPE=application/pdf:https://www.ondres.fr/wp-content/uploads/2026/04/affiche-portes-ouvertes-2026.pdf
END:VEVENT
END:VCALENDAR